BEGIN:VCALENDAR
VERSION:2.0
PRODID:-//Sabre//Sabre VObject 4.5.8//EN
CALSCALE:GREGORIAN
NAME:PSI Reuse: Enabling Innovation
X-WR-CALNAME:PSI Reuse: Enabling Innovation
BEGIN:VTIMEZONE
TZID:UTC
X-MICROSOFT-CDO-TZID:0
BEGIN:STANDARD
DTSTART:20130223T000000
TZOFFSETFROM:+0000
TZOFFSETTO:+0000
TZNAME:UTC
END:STANDARD
END:VTIMEZONE
BEGIN:VEVENT
UID:1d46591a-937f-4666-bd62-e370649a3e56
DTSTAMP:20221207T140328Z
SUMMARY:PSI Reuse: Enabling Innovation
DTSTART:20140218T000000Z
DTEND:20140218T000000Z
DESCRIPTION:https://www.w3.org/events/talks/2014/psi-reuse-enabling-innovat
 ion/\n\nPSI Reuse: Enabling Innovation
STATUS:CONFIRMED
CREATED:20140218T000000Z
LAST-MODIFIED:20221207T140328Z
END:VEVENT
END:VCALENDAR
