BEGIN:VCALENDAR
VERSION:2.0
PRODID:-//Sabre//Sabre VObject 4.5.8//EN
CALSCALE:GREGORIAN
NAME:Small Data
X-WR-CALNAME:Small Data
BEGIN:VTIMEZONE
TZID:UTC
X-MICROSOFT-CDO-TZID:0
BEGIN:STANDARD
DTSTART:20130424T000000
TZOFFSETFROM:+0000
TZOFFSETTO:+0000
TZNAME:UTC
END:STANDARD
END:VTIMEZONE
BEGIN:VEVENT
UID:f3a54b25-82e3-45f6-902e-02ed9a690485
DTSTAMP:20221207T140417Z
SUMMARY:Small Data
DTSTART:20140419T000000Z
DTEND:20140419T000000Z
DESCRIPTION:https://www.w3.org/events/talks/2014/small-data/\n\nSmall Data
STATUS:CONFIRMED
CREATED:20140419T000000Z
LAST-MODIFIED:20221207T140417Z
END:VEVENT
END:VCALENDAR
