BEGIN:VCALENDAR
VERSION:2.0
PRODID:-//Sabre//Sabre VObject 4.5.8//EN
CALSCALE:GREGORIAN
NAME:Technologies\, Tools\, and Standards for Multimodal Application Develo
 pment
X-WR-CALNAME:Technologies\, Tools\, and Standards for Multimodal Applicatio
 n Development
BEGIN:VTIMEZONE
TZID:UTC
X-MICROSOFT-CDO-TZID:0
BEGIN:STANDARD
DTSTART:20130310T000000
TZOFFSETFROM:+0000
TZOFFSETTO:+0000
TZNAME:UTC
END:STANDARD
END:VTIMEZONE
BEGIN:VEVENT
UID:4e1caaf8-62b3-4811-833f-6529a513a9a3
DTSTAMP:20221207T140402Z
SUMMARY:Technologies\, Tools\, and Standards for Multimodal Application Dev
 elopment
DTSTART:20140305T000000Z
DTEND:20140305T000000Z
DESCRIPTION:https://www.w3.org/events/talks/2014/technologies-tools-and-sta
 ndards-for-multimodal-application-development/\n\nTechnologies\, Tools\, a
 nd Standards for Multimodal Application Development
STATUS:CONFIRMED
CREATED:20140305T000000Z
LAST-MODIFIED:20221207T140402Z
END:VEVENT
END:VCALENDAR
