BEGIN:VCALENDAR
VERSION:2.0
PRODID:-//Sabre//Sabre VObject 4.5.8//EN
CALSCALE:GREGORIAN
NAME:• The Future is Here: SVG is your Jetpack!
X-WR-CALNAME:• The Future is Here: SVG is your Jetpack!
BEGIN:VTIMEZONE
TZID:UTC
X-MICROSOFT-CDO-TZID:0
BEGIN:STANDARD
DTSTART:20130203T000000
TZOFFSETFROM:+0000
TZOFFSETTO:+0000
TZNAME:UTC
END:STANDARD
END:VTIMEZONE
BEGIN:VEVENT
UID:6eea6352-79f4-40b8-aa38-c9b5fe090b7c
DTSTAMP:20221207T142826Z
SUMMARY:• The Future is Here: SVG is your Jetpack!
DTSTART:20140129T000000Z
DTEND:20140129T000000Z
DESCRIPTION:https://www.w3.org/events/talks/2014/the-future-is-here-svg-is-
 your-jetpack/\n\n• The Future is Here: SVG is your Jetpack!
STATUS:CONFIRMED
CREATED:20140129T000000Z
LAST-MODIFIED:20221207T142826Z
END:VEVENT
END:VCALENDAR
