BEGIN:VCALENDAR
VERSION:2.0
PRODID:-//Sabre//Sabre VObject 4.5.8//EN
CALSCALE:GREGORIAN
NAME:The Hidden Pearls of ODF (XForms and RDFa)
X-WR-CALNAME:The Hidden Pearls of ODF (XForms and RDFa)
BEGIN:VTIMEZONE
TZID:UTC
X-MICROSOFT-CDO-TZID:0
BEGIN:STANDARD
DTSTART:20131213T000000
TZOFFSETFROM:+0000
TZOFFSETTO:+0000
TZNAME:UTC
END:STANDARD
END:VTIMEZONE
BEGIN:VEVENT
UID:308899af-33ef-45d1-882f-6c1feac25415
DTSTAMP:20221207T140424Z
SUMMARY:The Hidden Pearls of ODF (XForms and RDFa)
DTSTART:20141208T000000Z
DTEND:20141208T000000Z
DESCRIPTION:https://www.w3.org/events/talks/2014/the-hidden-pearls-of-odf-x
 forms-and-rdfa/\n\nThe Hidden Pearls of ODF (XForms and RDFa)
STATUS:CONFIRMED
CREATED:20141208T000000Z
LAST-MODIFIED:20221207T140424Z
END:VEVENT
END:VCALENDAR
