BEGIN:VCALENDAR
VERSION:2.0
PRODID:-//Sabre//Sabre VObject 4.5.8//EN
CALSCALE:GREGORIAN
NAME:The New W3C Data Activity
X-WR-CALNAME:The New W3C Data Activity
BEGIN:VTIMEZONE
TZID:UTC
X-MICROSOFT-CDO-TZID:0
BEGIN:STANDARD
DTSTART:20130128T000000
TZOFFSETFROM:+0000
TZOFFSETTO:+0000
TZNAME:UTC
END:STANDARD
END:VTIMEZONE
BEGIN:VEVENT
UID:763fb3bc-8a18-451b-ab13-25dcbfe22d3c
DTSTAMP:20221207T140423Z
SUMMARY:The New W3C Data Activity
DTSTART:20140123T000000Z
DTEND:20140123T000000Z
DESCRIPTION:https://www.w3.org/events/talks/2014/the-new-w3c-data-activity/
 \n\nThe New W3C Data Activity
STATUS:CONFIRMED
CREATED:20140123T000000Z
LAST-MODIFIED:20221207T140423Z
END:VEVENT
END:VCALENDAR
