BEGIN:VCALENDAR
VERSION:2.0
PRODID:-//Sabre//Sabre VObject 4.5.8//EN
CALSCALE:GREGORIAN
NAME:The true cost of content
X-WR-CALNAME:The true cost of content
BEGIN:VTIMEZONE
TZID:UTC
X-MICROSOFT-CDO-TZID:0
BEGIN:STANDARD
DTSTART:20130115T000000
TZOFFSETFROM:+0000
TZOFFSETTO:+0000
TZNAME:UTC
END:STANDARD
END:VTIMEZONE
BEGIN:VEVENT
UID:f2c86ca6-0c34-4fac-91cd-cac8ece6c45d
DTSTAMP:20221207T140325Z
SUMMARY:The true cost of content
DTSTART:20140110T000000Z
DTEND:20140110T000000Z
DESCRIPTION:https://www.w3.org/events/talks/2014/the-true-cost-of-content/\
 n\nThe true cost of content
STATUS:CONFIRMED
CREATED:20140110T000000Z
LAST-MODIFIED:20221207T140325Z
END:VEVENT
END:VCALENDAR
