BEGIN:VCALENDAR
VERSION:2.0
PRODID:-//Sabre//Sabre VObject 4.5.8//EN
CALSCALE:GREGORIAN
NAME:The WAI to Web Accessibility: Education & Outreach Update 2014
X-WR-CALNAME:The WAI to Web Accessibility: Education & Outreach Update 2014
BEGIN:VTIMEZONE
TZID:UTC
X-MICROSOFT-CDO-TZID:0
BEGIN:STANDARD
DTSTART:20130325T000000
TZOFFSETFROM:+0000
TZOFFSETTO:+0000
TZNAME:UTC
END:STANDARD
END:VTIMEZONE
BEGIN:VEVENT
UID:14513246-1a32-4de3-8882-01560887e358
DTSTAMP:20221207T143529Z
SUMMARY:The WAI to Web Accessibility: Education & Outreach Update 2014
DTSTART:20140320T000000Z
DTEND:20140320T000000Z
DESCRIPTION:https://www.w3.org/events/talks/2014/the-wai-to-web-accessibili
 ty-education-outreach-update-2014/\n\nThe WAI to Web Accessibility: Educat
 ion & Outreach Update 2014
STATUS:CONFIRMED
CREATED:20140320T000000Z
LAST-MODIFIED:20221207T143529Z
END:VEVENT
END:VCALENDAR
