BEGIN:VCALENDAR
VERSION:2.0
PRODID:-//Sabre//Sabre VObject 4.5.8//EN
CALSCALE:GREGORIAN
NAME:The Web as an open app distribution platform (panel)
X-WR-CALNAME:The Web as an open app distribution platform (panel)
BEGIN:VTIMEZONE
TZID:UTC
X-MICROSOFT-CDO-TZID:0
BEGIN:STANDARD
DTSTART:20130302T000000
TZOFFSETFROM:+0000
TZOFFSETTO:+0000
TZNAME:UTC
END:STANDARD
END:VTIMEZONE
BEGIN:VEVENT
UID:93c8a59a-51ad-48cf-81ea-066244302c4b
DTSTAMP:20221207T140348Z
SUMMARY:The Web as an open app distribution platform (panel)
DTSTART:20140225T000000Z
DTEND:20140225T000000Z
DESCRIPTION:https://www.w3.org/events/talks/2014/the-web-as-an-open-app-dis
 tribution-platform-panel/\n\nThe Web as an open app distribution platform 
 (panel)
STATUS:CONFIRMED
CREATED:20140225T000000Z
LAST-MODIFIED:20221207T140348Z
END:VEVENT
END:VCALENDAR
