BEGIN:VCALENDAR
VERSION:2.0
PRODID:-//Sabre//Sabre VObject 4.5.8//EN
CALSCALE:GREGORIAN
NAME:The WebRTC impact on the Web
X-WR-CALNAME:The WebRTC impact on the Web
BEGIN:VTIMEZONE
TZID:UTC
X-MICROSOFT-CDO-TZID:0
BEGIN:STANDARD
DTSTART:20131223T000000
TZOFFSETFROM:+0000
TZOFFSETTO:+0000
TZNAME:UTC
END:STANDARD
END:VTIMEZONE
BEGIN:VEVENT
UID:7d4fb500-f8a2-4e7b-b9ff-dbdb0dc84374
DTSTAMP:20221207T140400Z
SUMMARY:The WebRTC impact on the Web
DTSTART:20141218T000000Z
DTEND:20141218T000000Z
DESCRIPTION:https://www.w3.org/events/talks/2014/the-webrtc-impact-on-the-w
 eb/\n\nThe WebRTC impact on the Web
STATUS:CONFIRMED
CREATED:20141218T000000Z
LAST-MODIFIED:20221207T140400Z
END:VEVENT
END:VCALENDAR
