BEGIN:VCALENDAR
VERSION:2.0
PRODID:-//Sabre//Sabre VObject 4.5.8//EN
CALSCALE:GREGORIAN
NAME:Users Need to Customize Electronic Text (what you don&#039\;t know can
  hurt you)
X-WR-CALNAME:Users Need to Customize Electronic Text (what you don&#039\;t 
 know can hurt you)
BEGIN:VTIMEZONE
TZID:UTC
X-MICROSOFT-CDO-TZID:0
BEGIN:STANDARD
DTSTART:20130326T000000
TZOFFSETFROM:+0000
TZOFFSETTO:+0000
TZNAME:UTC
END:STANDARD
END:VTIMEZONE
BEGIN:VEVENT
UID:4ac357cf-30b6-44a1-b19a-6e87111b77d9
DTSTAMP:20221207T140401Z
SUMMARY:Users Need to Customize Electronic Text (what you don&#039\;t know 
 can hurt you)
DTSTART:20140321T000000Z
DTEND:20140321T000000Z
DESCRIPTION:https://www.w3.org/events/talks/2014/users-need-to-customize-el
 ectronic-text-what-you-don-039-t-know-can-hurt-you/\n\nUsers Need to Custo
 mize Electronic Text (what you don&#039\;t know can hurt you)
STATUS:CONFIRMED
CREATED:20140321T000000Z
LAST-MODIFIED:20221207T140401Z
END:VEVENT
END:VCALENDAR
