BEGIN:VCALENDAR
VERSION:2.0
PRODID:-//Sabre//Sabre VObject 4.5.8//EN
CALSCALE:GREGORIAN
NAME:W3C ja Linkitetty Data (W3C and Linked Data)
X-WR-CALNAME:W3C ja Linkitetty Data (W3C and Linked Data)
BEGIN:VTIMEZONE
TZID:UTC
X-MICROSOFT-CDO-TZID:0
BEGIN:STANDARD
DTSTART:20130129T000000
TZOFFSETFROM:+0000
TZOFFSETTO:+0000
TZNAME:UTC
END:STANDARD
END:VTIMEZONE
BEGIN:VEVENT
UID:b38a825e-5bda-423b-8107-d956218b87b8
DTSTAMP:20221207T140330Z
SUMMARY:W3C ja Linkitetty Data (W3C and Linked Data)
DTSTART:20140124T000000Z
DTEND:20140124T000000Z
DESCRIPTION:https://www.w3.org/events/talks/2014/w3c-ja-linkitetty-data-w3c
 -and-linked-data/\n\nW3C ja Linkitetty Data (W3C and Linked Data)
STATUS:CONFIRMED
CREATED:20140124T000000Z
LAST-MODIFIED:20221207T140330Z
END:VEVENT
END:VCALENDAR
