BEGIN:VCALENDAR
VERSION:2.0
PRODID:-//Sabre//Sabre VObject 4.5.8//EN
CALSCALE:GREGORIAN
NAME:W3C@Mobile World Congress 2014 (booth)
X-WR-CALNAME:W3C@Mobile World Congress 2014 (booth)
BEGIN:VTIMEZONE
TZID:UTC
X-MICROSOFT-CDO-TZID:0
BEGIN:STANDARD
DTSTART:20130301T000000
TZOFFSETFROM:+0000
TZOFFSETTO:+0000
TZNAME:UTC
END:STANDARD
END:VTIMEZONE
BEGIN:VEVENT
UID:0d2a50e2-87a2-4f07-90d0-381c4db03b7e
DTSTAMP:20221207T143243Z
SUMMARY:W3C@Mobile World Congress 2014 (booth)
DTSTART:20140224T000000Z
DTEND:20140227T000000Z
DESCRIPTION:https://www.w3.org/events/talks/2014/w3c-mobile-world-congress-
 2014/\n\nW3C@Mobile World Congress 2014
STATUS:CONFIRMED
CREATED:20140224T000000Z
LAST-MODIFIED:20221207T143243Z
END:VEVENT
END:VCALENDAR
