BEGIN:VCALENDAR
VERSION:2.0
PRODID:-//Sabre//Sabre VObject 4.5.8//EN
CALSCALE:GREGORIAN
NAME:W3C/WAI Tech Tour: Latest Accessibility in W3C Specs\, and What&#039\;
 s Next
X-WR-CALNAME:W3C/WAI Tech Tour: Latest Accessibility in W3C Specs\, and Wha
 t&#039\;s Next
BEGIN:VTIMEZONE
TZID:UTC
X-MICROSOFT-CDO-TZID:0
BEGIN:STANDARD
DTSTART:20130324T000000
TZOFFSETFROM:+0000
TZOFFSETTO:+0000
TZNAME:UTC
END:STANDARD
END:VTIMEZONE
BEGIN:VEVENT
UID:2a122065-3bec-4303-9903-f563a757eebd
DTSTAMP:20221207T140349Z
SUMMARY:W3C/WAI Tech Tour: Latest Accessibility in W3C Specs\, and What&#03
 9\;s Next
DTSTART:20140319T000000Z
DTEND:20140319T000000Z
DESCRIPTION:https://www.w3.org/events/talks/2014/w3c-wai-tech-tour-latest-a
 ccessibility-in-w3c-specs-and-what-039-s-next/\n\nW3C/WAI Tech Tour: Lates
 t Accessibility in W3C Specs\, and What&#039\;s Next
STATUS:CONFIRMED
CREATED:20140319T000000Z
LAST-MODIFIED:20221207T140349Z
END:VEVENT
END:VCALENDAR
