BEGIN:VCALENDAR
VERSION:2.0
PRODID:-//Sabre//Sabre VObject 4.5.8//EN
CALSCALE:GREGORIAN
NAME:WCAG-EM - Guiding You Through The Website Conformance Evaluation Proce
 ss
X-WR-CALNAME:WCAG-EM - Guiding You Through The Website Conformance Evaluati
 on Process
BEGIN:VTIMEZONE
TZID:UTC
X-MICROSOFT-CDO-TZID:0
BEGIN:STANDARD
DTSTART:20130326T000000
TZOFFSETFROM:+0000
TZOFFSETTO:+0000
TZNAME:UTC
END:STANDARD
END:VTIMEZONE
BEGIN:VEVENT
UID:a89194fa-2e3e-4710-b13a-73b9c2e98c6b
DTSTAMP:20221207T143556Z
SUMMARY:WCAG-EM - Guiding You Through The Website Conformance Evaluation Pr
 ocess
DTSTART:20140321T000000Z
DTEND:20140321T000000Z
DESCRIPTION:https://www.w3.org/events/talks/2014/wcag-em-guiding-you-throug
 h-the-website-conformance-evaluation-process/\n\nWCAG-EM - Guiding You Thr
 ough The Website Conformance Evaluation Process
STATUS:CONFIRMED
CREATED:20140321T000000Z
LAST-MODIFIED:20221207T143556Z
END:VEVENT
END:VCALENDAR
