BEGIN:VCALENDAR
VERSION:2.0
PRODID:-//Sabre//Sabre VObject 4.5.8//EN
CALSCALE:GREGORIAN
NAME:Web Accessibility and Innovation
X-WR-CALNAME:Web Accessibility and Innovation
BEGIN:VTIMEZONE
TZID:UTC
X-MICROSOFT-CDO-TZID:0
BEGIN:STANDARD
DTSTART:20130414T000000
TZOFFSETFROM:+0000
TZOFFSETTO:+0000
TZNAME:UTC
END:STANDARD
END:VTIMEZONE
BEGIN:VEVENT
UID:53c8a400-fdba-4f8a-86cb-19894e260760
DTSTAMP:20221207T143810Z
SUMMARY:Web Accessibility and Innovation
DTSTART:20140409T000000Z
DTEND:20140409T000000Z
DESCRIPTION:https://www.w3.org/events/talks/2014/web-accessibility-and-inno
 vation/\n\nWeb Accessibility and Innovation
STATUS:CONFIRMED
CREATED:20140409T000000Z
LAST-MODIFIED:20221207T143810Z
END:VEVENT
END:VCALENDAR
