BEGIN:VCALENDAR
VERSION:2.0
PRODID:-//Sabre//Sabre VObject 4.5.8//EN
CALSCALE:GREGORIAN
NAME:WebRTC: Communications meet Web
X-WR-CALNAME:WebRTC: Communications meet Web
BEGIN:VTIMEZONE
TZID:UTC
X-MICROSOFT-CDO-TZID:0
BEGIN:STANDARD
DTSTART:20130406T000000
TZOFFSETFROM:+0000
TZOFFSETTO:+0000
TZNAME:UTC
END:STANDARD
END:VTIMEZONE
BEGIN:VEVENT
UID:e210bd5b-1f27-4cc0-8bbc-819bd2d78cc7
DTSTAMP:20221207T140424Z
SUMMARY:WebRTC: Communications meet Web
DTSTART:20140401T000000Z
DTEND:20140401T000000Z
DESCRIPTION:https://www.w3.org/events/talks/2014/webrtc-communications-meet
 -web/\n\nWebRTC: Communications meet Web
STATUS:CONFIRMED
CREATED:20140401T000000Z
LAST-MODIFIED:20221207T140424Z
END:VEVENT
END:VCALENDAR
