BEGIN:VCALENDAR
VERSION:2.0
PRODID:-//Sabre//Sabre VObject 4.5.8//EN
CALSCALE:GREGORIAN
NAME:Why EDUPUB: Panel and Q&A (panel)
X-WR-CALNAME:Why EDUPUB: Panel and Q&A (panel)
BEGIN:VTIMEZONE
TZID:UTC
X-MICROSOFT-CDO-TZID:0
BEGIN:STANDARD
DTSTART:20130217T000000
TZOFFSETFROM:+0000
TZOFFSETTO:+0000
TZNAME:UTC
END:STANDARD
END:VTIMEZONE
BEGIN:VEVENT
UID:d85f2d45-526f-413d-a754-70ebb0f57cc4
DTSTAMP:20221207T140419Z
SUMMARY:Why EDUPUB: Panel and Q&A (panel)
DTSTART:20140212T000000Z
DTEND:20140212T000000Z
DESCRIPTION:https://www.w3.org/events/talks/2014/why-edupub-panel-and-q-a-p
 anel/\n\nWhy EDUPUB: Panel and Q&A (panel)
STATUS:CONFIRMED
CREATED:20140212T000000Z
LAST-MODIFIED:20221207T140419Z
END:VEVENT
END:VCALENDAR
