BEGIN:VCALENDAR
VERSION:2.0
PRODID:-//Sabre//Sabre VObject 4.5.8//EN
CALSCALE:GREGORIAN
NAME:XML\, Semantic Web and Content Analytics
X-WR-CALNAME:XML\, Semantic Web and Content Analytics
BEGIN:VTIMEZONE
TZID:UTC
X-MICROSOFT-CDO-TZID:0
BEGIN:STANDARD
DTSTART:20130219T000000
TZOFFSETFROM:+0000
TZOFFSETTO:+0000
TZNAME:UTC
END:STANDARD
END:VTIMEZONE
BEGIN:VEVENT
UID:0e22fb6f-a44a-4a91-9528-389d2b1bec74
DTSTAMP:20221207T140322Z
SUMMARY:XML\, Semantic Web and Content Analytics
DTSTART:20140214T000000Z
DTEND:20140214T000000Z
DESCRIPTION:https://www.w3.org/events/talks/2014/xml-semantic-web-and-conte
 nt-analytics/\n\nXML\, Semantic Web and Content Analytics
STATUS:CONFIRMED
CREATED:20140214T000000Z
LAST-MODIFIED:20221207T140322Z
END:VEVENT
END:VCALENDAR
