BEGIN:VCALENDAR
VERSION:2.0
PRODID:-//Sabre//Sabre VObject 4.5.8//EN
CALSCALE:GREGORIAN
NAME:A história das CSS: do Working Group às especificações (The CSS Hi
 story: from the Working Group to the specs)
X-WR-CALNAME:A história das CSS: do Working Group às especificações (Th
 e CSS History: from the Working Group to the specs)
BEGIN:VTIMEZONE
TZID:UTC
X-MICROSOFT-CDO-TZID:0
BEGIN:STANDARD
DTSTART:20150509T000000
TZOFFSETFROM:+0000
TZOFFSETTO:+0000
TZNAME:UTC
END:STANDARD
END:VTIMEZONE
BEGIN:VEVENT
UID:e882f468-1a14-4404-8ddb-abb3dfab459a
DTSTAMP:20221209T130758Z
SUMMARY:A história das CSS: do Working Group às especificações (The CSS
  History: from the Working Group to the specs)
DTSTART:20160503T000000Z
DTEND:20160503T000000Z
DESCRIPTION:https://www.w3.org/events/talks/2016/a-hist%C3%B3ria-das-css-do
 -working-group-%C3%A0s-especifica%C3%A7%C3%B5es-the-css-history-from-the-w
 orking-group-to-the-specs/\n\nA história das CSS: do Working Group às es
 pecificações (The CSS History: from the Working Group to the specs)
STATUS:CONFIRMED
CREATED:20160503T000000Z
LAST-MODIFIED:20221209T130758Z
END:VEVENT
END:VCALENDAR
