BEGIN:VCALENDAR
VERSION:2.0
PRODID:-//Sabre//Sabre VObject 4.5.8//EN
CALSCALE:GREGORIAN
NAME:Big Data Europe\, an infrastructure for all
X-WR-CALNAME:Big Data Europe\, an infrastructure for all
BEGIN:VTIMEZONE
TZID:UTC
X-MICROSOFT-CDO-TZID:0
BEGIN:STANDARD
DTSTART:20150313T000000
TZOFFSETFROM:+0000
TZOFFSETTO:+0000
TZNAME:UTC
END:STANDARD
END:VTIMEZONE
BEGIN:VEVENT
UID:5efd24f3-26ca-448c-884c-02a6ccb622c1
DTSTAMP:20221209T130726Z
SUMMARY:Big Data Europe\, an infrastructure for all
DTSTART:20160307T000000Z
DTEND:20160307T000000Z
DESCRIPTION:https://www.w3.org/events/talks/2016/big-data-europe-an-infrast
 ructure-for-all/\n\nBig Data Europe\, an infrastructure for all
STATUS:CONFIRMED
CREATED:20160307T000000Z
LAST-MODIFIED:20221209T130726Z
END:VEVENT
END:VCALENDAR
