BEGIN:VCALENDAR
VERSION:2.0
PRODID:-//Sabre//Sabre VObject 4.5.8//EN
CALSCALE:GREGORIAN
NAME:Catching Up with Accessibility: Beginner's Basics (tutorial)
X-WR-CALNAME:Catching Up with Accessibility: Beginner's Basics (tutorial)
BEGIN:VTIMEZONE
TZID:UTC
X-MICROSOFT-CDO-TZID:0
BEGIN:STANDARD
DTSTART:20150515T000000
TZOFFSETFROM:+0000
TZOFFSETTO:+0000
TZNAME:UTC
END:STANDARD
END:VTIMEZONE
BEGIN:VEVENT
UID:b5ad991f-f865-4390-826b-6eab4b7ca85a
DTSTAMP:20221209T130729Z
SUMMARY:Catching Up with Accessibility: Beginner's Basics (tutorial)
DTSTART:20160509T000000Z
DTEND:20160509T000000Z
DESCRIPTION:https://www.w3.org/events/talks/2016/catching-up-with-accessibi
 lity-beginners-basics-tutorial/\n\nCatching Up with Accessibility: Beginne
 r's Basics (tutorial)
STATUS:CONFIRMED
CREATED:20160509T000000Z
LAST-MODIFIED:20221209T130729Z
END:VEVENT
END:VCALENDAR
