BEGIN:VCALENDAR
VERSION:2.0
PRODID:-//Sabre//Sabre VObject 4.5.8//EN
CALSCALE:GREGORIAN
NAME:Data-Driven Economy - on Semantic Intelligence and AI Technologies
X-WR-CALNAME:Data-Driven Economy - on Semantic Intelligence and AI Technolo
 gies
BEGIN:VTIMEZONE
TZID:UTC
X-MICROSOFT-CDO-TZID:0
BEGIN:STANDARD
DTSTART:20150504T000000
TZOFFSETFROM:+0000
TZOFFSETTO:+0000
TZNAME:UTC
END:STANDARD
END:VTIMEZONE
BEGIN:VEVENT
UID:3a21ef17-4da2-4fe2-ba40-0a3953b19716
DTSTAMP:20221209T130802Z
SUMMARY:Data-Driven Economy - on Semantic Intelligence and AI Technologies
DTSTART:20160428T000000Z
DTEND:20160428T000000Z
DESCRIPTION:https://www.w3.org/events/talks/2016/data-driven-economy-on-sem
 antic-intelligence-and-ai-technologies/\n\nData-Driven Economy - on Semant
 ic Intelligence and AI Technologies
STATUS:CONFIRMED
CREATED:20160428T000000Z
LAST-MODIFIED:20221209T130802Z
END:VEVENT
END:VCALENDAR
