BEGIN:VCALENDAR
VERSION:2.0
PRODID:-//Sabre//Sabre VObject 4.5.8//EN
CALSCALE:GREGORIAN
NAME:Data just wants to be (format) neutral
X-WR-CALNAME:Data just wants to be (format) neutral
BEGIN:VTIMEZONE
TZID:UTC
X-MICROSOFT-CDO-TZID:0
BEGIN:STANDARD
DTSTART:20150217T000000
TZOFFSETFROM:+0000
TZOFFSETTO:+0000
TZNAME:UTC
END:STANDARD
END:VTIMEZONE
BEGIN:VEVENT
UID:44f91427-5dbe-4d35-9cb4-9a3515dde4d3
DTSTAMP:20221209T130741Z
SUMMARY:Data just wants to be (format) neutral
DTSTART:20160212T000000Z
DTEND:20160212T000000Z
DESCRIPTION:https://www.w3.org/events/talks/2016/data-just-wants-to-be-form
 at-neutral/\n\nData just wants to be (format) neutral
STATUS:CONFIRMED
CREATED:20160212T000000Z
LAST-MODIFIED:20221209T130741Z
END:VEVENT
END:VCALENDAR
