BEGIN:VCALENDAR
VERSION:2.0
PRODID:-//Sabre//Sabre VObject 4.5.8//EN
CALSCALE:GREGORIAN
NAME:Documents numériques et le Web : construire la convergence (Digital
  documents and the Web: build the convergence)
X-WR-CALNAME:Documents numériques et le Web : construire la convergence 
 (Digital documents and the Web: build the convergence)
BEGIN:VTIMEZONE
TZID:UTC
X-MICROSOFT-CDO-TZID:0
BEGIN:STANDARD
DTSTART:20150117T000000
TZOFFSETFROM:+0000
TZOFFSETTO:+0000
TZNAME:UTC
END:STANDARD
END:VTIMEZONE
BEGIN:VEVENT
UID:90457bd0-296f-404f-abf0-60a66fc9d29e
DTSTAMP:20221209T130753Z
SUMMARY:Documents numériques et le Web : construire la convergence (Digi
 tal documents and the Web: build the convergence)
DTSTART:20160112T000000Z
DTEND:20160112T000000Z
DESCRIPTION:https://www.w3.org/events/talks/2016/documents-num%C3%A9riques-
 et-le-web-construire-la-convergence-digital-documents-and-the-web-build-th
 e-convergence/\n\nDocuments numériques et le Web : construire la conver
 gence (Digital documents and the Web: build the convergence)
STATUS:CONFIRMED
CREATED:20160112T000000Z
LAST-MODIFIED:20221209T130753Z
END:VEVENT
END:VCALENDAR
