BEGIN:VCALENDAR
VERSION:2.0
PRODID:-//Sabre//Sabre VObject 4.5.8//EN
CALSCALE:GREGORIAN
NAME:Easy Checks for Web Accessibility: Get the Gist (No Experience Necessa
 ry) (tutorial)
X-WR-CALNAME:Easy Checks for Web Accessibility: Get the Gist (No Experience
  Necessary) (tutorial)
BEGIN:VTIMEZONE
TZID:UTC
X-MICROSOFT-CDO-TZID:0
BEGIN:STANDARD
DTSTART:20150515T000000
TZOFFSETFROM:+0000
TZOFFSETTO:+0000
TZNAME:UTC
END:STANDARD
END:VTIMEZONE
BEGIN:VEVENT
UID:1187460c-d4e9-407f-874a-e41aad00874b
DTSTAMP:20221209T130755Z
SUMMARY:Easy Checks for Web Accessibility: Get the Gist (No Experience Nece
 ssary) (tutorial)
DTSTART:20160509T000000Z
DTEND:20160509T000000Z
DESCRIPTION:https://www.w3.org/events/talks/2016/easy-checks-for-web-access
 ibility-get-the-gist-no-experience-necessary-tutorial/\n\nEasy Checks for 
 Web Accessibility: Get the Gist (No Experience Necessary) (tutorial)
STATUS:CONFIRMED
CREATED:20160509T000000Z
LAST-MODIFIED:20221209T130755Z
END:VEVENT
END:VCALENDAR
