BEGIN:VCALENDAR
VERSION:2.0
PRODID:-//Sabre//Sabre VObject 4.5.8//EN
CALSCALE:GREGORIAN
NAME:HTML5
X-WR-CALNAME:HTML5
BEGIN:VTIMEZONE
TZID:UTC
X-MICROSOFT-CDO-TZID:0
BEGIN:STANDARD
DTSTART:20150511T000000
TZOFFSETFROM:+0000
TZOFFSETTO:+0000
TZNAME:UTC
END:STANDARD
END:VTIMEZONE
BEGIN:VEVENT
UID:33da7406-02c6-48a0-8970-8115527ab4ea
DTSTAMP:20221209T130734Z
SUMMARY:HTML5
DTSTART:20160505T000000Z
DTEND:20160505T000000Z
DESCRIPTION:https://www.w3.org/events/talks/2016/html5/\n\nHTML5
STATUS:CONFIRMED
CREATED:20160505T000000Z
LAST-MODIFIED:20221209T130734Z
END:VEVENT
END:VCALENDAR
