BEGIN:VCALENDAR
VERSION:2.0
PRODID:-//Sabre//Sabre VObject 4.5.8//EN
CALSCALE:GREGORIAN
NAME:Internet 2016 (Powers of two)
X-WR-CALNAME:Internet 2016 (Powers of two)
BEGIN:VTIMEZONE
TZID:UTC
X-MICROSOFT-CDO-TZID:0
BEGIN:STANDARD
DTSTART:20150112T000000
TZOFFSETFROM:+0000
TZOFFSETTO:+0000
TZNAME:UTC
END:STANDARD
END:VTIMEZONE
BEGIN:VEVENT
UID:08a2bd4c-7a10-4b10-b02d-1e723a63d1dd
DTSTAMP:20221209T130723Z
SUMMARY:Internet 2016 (Powers of two)
DTSTART:20160107T000000Z
DTEND:20160107T000000Z
DESCRIPTION:https://www.w3.org/events/talks/2016/internet-2016-powers-of-tw
 o/\n\nInternet 2016 (Powers of two)
STATUS:CONFIRMED
CREATED:20160107T000000Z
LAST-MODIFIED:20221209T130723Z
END:VEVENT
END:VCALENDAR
