BEGIN:VCALENDAR
VERSION:2.0
PRODID:-//Sabre//Sabre VObject 4.5.8//EN
CALSCALE:GREGORIAN
NAME:Introduction to Writing Systems and Unicode (tutorial)
X-WR-CALNAME:Introduction to Writing Systems and Unicode (tutorial)
BEGIN:VTIMEZONE
TZID:UTC
X-MICROSOFT-CDO-TZID:0
BEGIN:STANDARD
DTSTART:20150219T000000
TZOFFSETFROM:+0000
TZOFFSETTO:+0000
TZNAME:UTC
END:STANDARD
END:VTIMEZONE
BEGIN:VEVENT
UID:755c9fe9-347f-4105-8632-5a3c369c3420
DTSTAMP:20221209T130735Z
SUMMARY:Introduction to Writing Systems and Unicode (tutorial)
DTSTART:20160214T000000Z
DTEND:20160214T000000Z
DESCRIPTION:https://www.w3.org/events/talks/2016/introduction-to-writing-sy
 stems-and-unicode-tutorial/\n\nIntroduction to Writing Systems and Unicode
  (tutorial)
STATUS:CONFIRMED
CREATED:20160214T000000Z
LAST-MODIFIED:20221209T130735Z
END:VEVENT
END:VCALENDAR
