BEGIN:VCALENDAR
VERSION:2.0
PRODID:-//Sabre//Sabre VObject 4.5.8//EN
CALSCALE:GREGORIAN
NAME:Migration vers HTTPS des serveurs Web du W3C - retour d'expérience
X-WR-CALNAME:Migration vers HTTPS des serveurs Web du W3C - retour d'expér
 ience
BEGIN:VTIMEZONE
TZID:UTC
X-MICROSOFT-CDO-TZID:0
BEGIN:STANDARD
DTSTART:20150408T000000
TZOFFSETFROM:+0000
TZOFFSETTO:+0000
TZNAME:UTC
END:STANDARD
END:VTIMEZONE
BEGIN:VEVENT
UID:23a13626-f023-44fe-a73a-d4ea928e0549
DTSTAMP:20221209T130801Z
SUMMARY:Migration vers HTTPS des serveurs Web du W3C - retour d'expérience
DTSTART:20160402T000000Z
DTEND:20160402T000000Z
DESCRIPTION:https://www.w3.org/events/talks/2016/migration-vers-https-des-s
 erveurs-web-du-w3c-retour-dexp%C3%A9rience/\n\nMigration vers HTTPS des se
 rveurs Web du W3C - retour d'expérience
STATUS:CONFIRMED
CREATED:20160402T000000Z
LAST-MODIFIED:20221209T130801Z
END:VEVENT
END:VCALENDAR
