BEGIN:VCALENDAR
VERSION:2.0
PRODID:-//Sabre//Sabre VObject 4.5.8//EN
CALSCALE:GREGORIAN
NAME:My Wallet’s Gone! The 2nd mobile wallet renaissance (panel)
X-WR-CALNAME:My Wallet’s Gone! The 2nd mobile wallet renaissance (panel)
BEGIN:VTIMEZONE
TZID:UTC
X-MICROSOFT-CDO-TZID:0
BEGIN:STANDARD
DTSTART:20150429T000000
TZOFFSETFROM:+0000
TZOFFSETTO:+0000
TZNAME:UTC
END:STANDARD
END:VTIMEZONE
BEGIN:VEVENT
UID:c1953e5f-30a0-4b57-9e23-4a5fe9a3fc87
DTSTAMP:20221209T130805Z
SUMMARY:My Wallet’s Gone! The 2nd mobile wallet renaissance (panel)
DTSTART:20160423T000000Z
DTEND:20160423T000000Z
DESCRIPTION:https://www.w3.org/events/talks/2016/my-wallets-gone-the-2nd-mo
 bile-wallet-renaissance-panel/\n\nMy Wallet’s Gone! The 2nd mobile walle
 t renaissance (panel)
STATUS:CONFIRMED
CREATED:20160423T000000Z
LAST-MODIFIED:20221209T130805Z
END:VEVENT
END:VCALENDAR
