BEGIN:VCALENDAR
VERSION:2.0
PRODID:-//Sabre//Sabre VObject 4.5.8//EN
CALSCALE:GREGORIAN
NAME:Open Data Panel
X-WR-CALNAME:Open Data Panel
BEGIN:VTIMEZONE
TZID:UTC
X-MICROSOFT-CDO-TZID:0
BEGIN:STANDARD
DTSTART:20150228T000000
TZOFFSETFROM:+0000
TZOFFSETTO:+0000
TZNAME:UTC
END:STANDARD
END:VTIMEZONE
BEGIN:VEVENT
UID:e359c264-fc39-4915-8674-05b7f8dd8294
DTSTAMP:20221209T130747Z
SUMMARY:Open Data Panel
DTSTART:20160223T000000Z
DTEND:20160223T000000Z
DESCRIPTION:https://www.w3.org/events/talks/2016/open-data-panel/\n\nOpen D
 ata Panel
STATUS:CONFIRMED
CREATED:20160223T000000Z
LAST-MODIFIED:20221209T130747Z
END:VEVENT
END:VCALENDAR
