BEGIN:VCALENDAR
VERSION:2.0
PRODID:-//Sabre//Sabre VObject 4.5.8//EN
CALSCALE:GREGORIAN
NAME:Parse Earley\, Parse Often
X-WR-CALNAME:Parse Earley\, Parse Often
BEGIN:VTIMEZONE
TZID:UTC
X-MICROSOFT-CDO-TZID:0
BEGIN:STANDARD
DTSTART:20150611T000000
TZOFFSETFROM:+0000
TZOFFSETTO:+0000
TZNAME:UTC
END:STANDARD
END:VTIMEZONE
BEGIN:VEVENT
UID:625767e8-e20d-4ee2-bcb2-702df94ed153
DTSTAMP:20221209T130735Z
SUMMARY:Parse Earley\, Parse Often
DTSTART:20160605T000000Z
DTEND:20160605T000000Z
DESCRIPTION:https://www.w3.org/events/talks/2016/parse-earley-parse-often/\
 n\nParse Earley\, Parse Often
STATUS:CONFIRMED
CREATED:20160605T000000Z
LAST-MODIFIED:20221209T130735Z
END:VEVENT
END:VCALENDAR
