BEGIN:VCALENDAR
VERSION:2.0
PRODID:-//Sabre//Sabre VObject 4.5.8//EN
CALSCALE:GREGORIAN
NAME:Portable Web Publications: Technology Challenges
X-WR-CALNAME:Portable Web Publications: Technology Challenges
BEGIN:VTIMEZONE
TZID:UTC
X-MICROSOFT-CDO-TZID:0
BEGIN:STANDARD
DTSTART:20150419T000000
TZOFFSETFROM:+0000
TZOFFSETTO:+0000
TZNAME:UTC
END:STANDARD
END:VTIMEZONE
BEGIN:VEVENT
UID:4f00b02a-79d6-4f45-9f27-cf256771f4fb
DTSTAMP:20221209T130754Z
SUMMARY:Portable Web Publications: Technology Challenges
DTSTART:20160413T000000Z
DTEND:20160413T000000Z
DESCRIPTION:https://www.w3.org/events/talks/2016/portable-web-publications-
 technology-challenges/\n\nPortable Web Publications: Technology Challenges
STATUS:CONFIRMED
CREATED:20160413T000000Z
LAST-MODIFIED:20221209T130754Z
END:VEVENT
END:VCALENDAR
