BEGIN:VCALENDAR
VERSION:2.0
PRODID:-//Sabre//Sabre VObject 4.5.8//EN
CALSCALE:GREGORIAN
NAME:Portable Web Publications
X-WR-CALNAME:Portable Web Publications
BEGIN:VTIMEZONE
TZID:UTC
X-MICROSOFT-CDO-TZID:0
BEGIN:STANDARD
DTSTART:20150413T000000
TZOFFSETFROM:+0000
TZOFFSETTO:+0000
TZNAME:UTC
END:STANDARD
END:VTIMEZONE
BEGIN:VEVENT
UID:31c7d041-0d6a-4858-920f-f925bb6bfca1
DTSTAMP:20221209T130739Z
SUMMARY:Portable Web Publications
DTSTART:20160407T000000Z
DTEND:20160407T000000Z
DESCRIPTION:https://www.w3.org/events/talks/2016/portable-web-publications/
 \n\nPortable Web Publications
STATUS:CONFIRMED
CREATED:20160407T000000Z
LAST-MODIFIED:20221209T130739Z
END:VEVENT
END:VCALENDAR
