BEGIN:VCALENDAR
VERSION:2.0
PRODID:-//Sabre//Sabre VObject 4.5.8//EN
CALSCALE:GREGORIAN
NAME:State of W3C web performance group
X-WR-CALNAME:State of W3C web performance group
BEGIN:VTIMEZONE
TZID:UTC
X-MICROSOFT-CDO-TZID:0
BEGIN:STANDARD
DTSTART:20150328T000000
TZOFFSETFROM:+0000
TZOFFSETTO:+0000
TZNAME:UTC
END:STANDARD
END:VTIMEZONE
BEGIN:VEVENT
UID:71a122fd-3053-4893-b0fb-5c3e57c9a603
DTSTAMP:20221209T131201Z
SUMMARY:State of W3C web performance group
DTSTART:20160322T000000Z
DTEND:20160322T000000Z
DESCRIPTION:https://www.w3.org/events/talks/2016/state-of-w3c-web-performan
 ce-group/\n\nState of W3C web performance group
STATUS:CONFIRMED
CREATED:20160322T000000Z
LAST-MODIFIED:20221209T131201Z
END:VEVENT
END:VCALENDAR
