BEGIN:VCALENDAR
VERSION:2.0
PRODID:-//Sabre//Sabre VObject 4.5.8//EN
CALSCALE:GREGORIAN
NAME:The Future of Payments
X-WR-CALNAME:The Future of Payments
BEGIN:VTIMEZONE
TZID:UTC
X-MICROSOFT-CDO-TZID:0
BEGIN:STANDARD
DTSTART:20150419T000000
TZOFFSETFROM:+0000
TZOFFSETTO:+0000
TZNAME:UTC
END:STANDARD
END:VTIMEZONE
BEGIN:VEVENT
UID:32a704ab-bcf4-4470-9f95-4d2bce19af6e
DTSTAMP:20221209T130751Z
SUMMARY:The Future of Payments
DTSTART:20160413T000000Z
DTEND:20160413T000000Z
DESCRIPTION:https://www.w3.org/events/talks/2016/the-future-of-payments/\n\
 nThe Future of Payments
STATUS:CONFIRMED
CREATED:20160413T000000Z
LAST-MODIFIED:20221209T130751Z
END:VEVENT
END:VCALENDAR
