BEGIN:VCALENDAR
VERSION:2.0
PRODID:-//Sabre//Sabre VObject 4.5.8//EN
CALSCALE:GREGORIAN
NAME:The Language User Interface to the Internet of Things: Tools\, Standar
 ds and Resources
X-WR-CALNAME:The Language User Interface to the Internet of Things: Tools\,
  Standards and Resources
BEGIN:VTIMEZONE
TZID:UTC
X-MICROSOFT-CDO-TZID:0
BEGIN:STANDARD
DTSTART:20150418T000000
TZOFFSETFROM:+0000
TZOFFSETTO:+0000
TZNAME:UTC
END:STANDARD
END:VTIMEZONE
BEGIN:VEVENT
UID:75a80eef-c31b-4ed9-906b-bc5f742972ac
DTSTAMP:20221209T130732Z
SUMMARY:The Language User Interface to the Internet of Things: Tools\, Stan
 dards and Resources
DTSTART:20160412T000000Z
DTEND:20160412T000000Z
DESCRIPTION:https://www.w3.org/events/talks/2016/the-language-user-interfac
 e-to-the-internet-of-things-tools-standards-and-resources/\n\nThe Language
  User Interface to the Internet of Things: Tools\, Standards and Resources
STATUS:CONFIRMED
CREATED:20160412T000000Z
LAST-MODIFIED:20221209T130732Z
END:VEVENT
END:VCALENDAR
