BEGIN:VCALENDAR
VERSION:2.0
PRODID:-//Sabre//Sabre VObject 4.5.8//EN
CALSCALE:GREGORIAN
NAME:The Right Tool for the Job: Traditional Standards\, Open Source\, and 
 Hybridization (panel)
X-WR-CALNAME:The Right Tool for the Job: Traditional Standards\, Open Sourc
 e\, and Hybridization (panel)
BEGIN:VTIMEZONE
TZID:UTC
X-MICROSOFT-CDO-TZID:0
BEGIN:STANDARD
DTSTART:20150421T000000
TZOFFSETFROM:+0000
TZOFFSETTO:+0000
TZNAME:UTC
END:STANDARD
END:VTIMEZONE
BEGIN:VEVENT
UID:7c0a934f-cf24-49cc-a706-ccdd91dad832
DTSTAMP:20221209T130725Z
SUMMARY:The Right Tool for the Job: Traditional Standards\, Open Source\, a
 nd Hybridization (panel)
DTSTART:20160415T000000Z
DTEND:20160415T000000Z
DESCRIPTION:https://www.w3.org/events/talks/2016/the-right-tool-for-the-job
 -traditional-standards-open-source-and-hybridization-panel/\n\nThe Right T
 ool for the Job: Traditional Standards\, Open Source\, and Hybridization (
 panel)
STATUS:CONFIRMED
CREATED:20160415T000000Z
LAST-MODIFIED:20221209T130725Z
END:VEVENT
END:VCALENDAR
