BEGIN:VCALENDAR
VERSION:2.0
PRODID:-//Sabre//Sabre VObject 4.5.8//EN
CALSCALE:GREGORIAN
NAME:The Significance and Technical Opportunities of the Data Boom
X-WR-CALNAME:The Significance and Technical Opportunities of the Data Boom
BEGIN:VTIMEZONE
TZID:UTC
X-MICROSOFT-CDO-TZID:0
BEGIN:STANDARD
DTSTART:20150126T000000
TZOFFSETFROM:+0000
TZOFFSETTO:+0000
TZNAME:UTC
END:STANDARD
END:VTIMEZONE
BEGIN:VEVENT
UID:00248312-7bf3-4407-a30c-143cf149ce4a
DTSTAMP:20221209T130726Z
SUMMARY:The Significance and Technical Opportunities of the Data Boom
DTSTART:20160121T000000Z
DTEND:20160121T000000Z
DESCRIPTION:https://www.w3.org/events/talks/2016/the-significance-and-techn
 ical-opportunities-of-the-data-boom/\n\nThe Significance and Technical Opp
 ortunities of the Data Boom
STATUS:CONFIRMED
CREATED:20160121T000000Z
LAST-MODIFIED:20221209T130726Z
END:VEVENT
END:VCALENDAR
