BEGIN:VCALENDAR
VERSION:2.0
PRODID:-//Sabre//Sabre VObject 4.5.8//EN
CALSCALE:GREGORIAN
NAME:The WAI to Web Accessibility: An Interactive Tour Through Resources fo
 rm the W3C Web Accessibility (tutorial)
X-WR-CALNAME:The WAI to Web Accessibility: An Interactive Tour Through Reso
 urces form the W3C Web Accessibility (tutorial)
BEGIN:VTIMEZONE
TZID:UTC
X-MICROSOFT-CDO-TZID:0
BEGIN:STANDARD
DTSTART:20150515T000000
TZOFFSETFROM:+0000
TZOFFSETTO:+0000
TZNAME:UTC
END:STANDARD
END:VTIMEZONE
BEGIN:VEVENT
UID:9aac344d-2dc4-4a49-a9fb-1e92596a3f6a
DTSTAMP:20221209T131546Z
SUMMARY:The WAI to Web Accessibility: An Interactive Tour Through Resources
  form the W3C Web Accessibility (tutorial)
DTSTART:20160509T000000Z
DTEND:20160509T000000Z
DESCRIPTION:https://www.w3.org/events/talks/2016/the-wai-to-web-accessibili
 ty-an-interactive-tour-through-resources-form-the-w3c-web-accessibility-tu
 torial-2/\n\nThe WAI to Web Accessibility: An Interactive Tour Through Res
 ources form the W3C Web Accessibility (tutorial)
STATUS:CONFIRMED
CREATED:20160509T000000Z
LAST-MODIFIED:20221209T131546Z
END:VEVENT
END:VCALENDAR
