BEGIN:VCALENDAR
VERSION:2.0
PRODID:-//Sabre//Sabre VObject 4.5.8//EN
CALSCALE:GREGORIAN
NAME:The WAI to Web Accessibility: Education & Outreach Update
X-WR-CALNAME:The WAI to Web Accessibility: Education & Outreach Update
BEGIN:VTIMEZONE
TZID:UTC
X-MICROSOFT-CDO-TZID:0
BEGIN:STANDARD
DTSTART:20150331T000000
TZOFFSETFROM:+0000
TZOFFSETTO:+0000
TZNAME:UTC
END:STANDARD
END:VTIMEZONE
BEGIN:VEVENT
UID:9cfb8b72-ea40-4928-b017-5947de1afb41
DTSTAMP:20221209T131332Z
SUMMARY:The WAI to Web Accessibility: Education & Outreach Update
DTSTART:20160325T000000Z
DTEND:20160325T000000Z
DESCRIPTION:https://www.w3.org/events/talks/2016/the-wai-to-web-accessibili
 ty-education-outreach-update/\n\nThe WAI to Web Accessibility: Education &
  Outreach Update
STATUS:CONFIRMED
CREATED:20160325T000000Z
LAST-MODIFIED:20221209T131332Z
END:VEVENT
END:VCALENDAR
