BEGIN:VCALENDAR
VERSION:2.0
PRODID:-//Sabre//Sabre VObject 4.5.8//EN
CALSCALE:GREGORIAN
NAME:W3C and Web Standards
X-WR-CALNAME:W3C and Web Standards
BEGIN:VTIMEZONE
TZID:UTC
X-MICROSOFT-CDO-TZID:0
BEGIN:STANDARD
DTSTART:20151121T000000
TZOFFSETFROM:+0000
TZOFFSETTO:+0000
TZNAME:UTC
END:STANDARD
END:VTIMEZONE
BEGIN:VEVENT
UID:fada3cd4-345c-4592-9b6f-56a03c83f1ac
DTSTAMP:20221209T130746Z
SUMMARY:W3C and Web Standards
DTSTART:20161115T000000Z
DTEND:20161115T000000Z
DESCRIPTION:https://www.w3.org/events/talks/2016/w3c-and-web-standards/\n\n
 W3C and Web Standards
STATUS:CONFIRMED
CREATED:20161115T000000Z
LAST-MODIFIED:20221209T130746Z
END:VEVENT
END:VCALENDAR
