BEGIN:VCALENDAR
VERSION:2.0
PRODID:-//Sabre//Sabre VObject 4.5.8//EN
CALSCALE:GREGORIAN
NAME:W3C Web Payments and Next
X-WR-CALNAME:W3C Web Payments and Next
BEGIN:VTIMEZONE
TZID:UTC
X-MICROSOFT-CDO-TZID:0
BEGIN:STANDARD
DTSTART:20150525T000000
TZOFFSETFROM:+0000
TZOFFSETTO:+0000
TZNAME:UTC
END:STANDARD
END:VTIMEZONE
BEGIN:VEVENT
UID:504d75fc-4855-40e6-87b2-564bde62d8d2
DTSTAMP:20221209T130728Z
SUMMARY:W3C Web Payments and Next
DTSTART:20160519T000000Z
DTEND:20160519T000000Z
DESCRIPTION:https://www.w3.org/events/talks/2016/w3c-web-payments-and-next/
 \n\nW3C Web Payments and Next
STATUS:CONFIRMED
CREATED:20160519T000000Z
LAST-MODIFIED:20221209T130728Z
END:VEVENT
END:VCALENDAR
