BEGIN:VCALENDAR
VERSION:2.0
PRODID:-//Sabre//Sabre VObject 4.5.8//EN
CALSCALE:GREGORIAN
NAME:W3C Web Standards Work for the Automotive Industry
X-WR-CALNAME:W3C Web Standards Work for the Automotive Industry
BEGIN:VTIMEZONE
TZID:UTC
X-MICROSOFT-CDO-TZID:0
BEGIN:STANDARD
DTSTART:20150518T000000
TZOFFSETFROM:+0000
TZOFFSETTO:+0000
TZNAME:UTC
END:STANDARD
END:VTIMEZONE
BEGIN:VEVENT
UID:51fdd404-948e-4b14-828e-e248a3fb5b6d
DTSTAMP:20221209T130740Z
SUMMARY:W3C Web Standards Work for the Automotive Industry
DTSTART:20160512T000000Z
DTEND:20160512T000000Z
DESCRIPTION:https://www.w3.org/events/talks/2016/w3c-web-standards-work-for
 -the-automotive-industry/\n\nW3C Web Standards Work for the Automotive Ind
 ustry
STATUS:CONFIRMED
CREATED:20160512T000000Z
LAST-MODIFIED:20221209T130740Z
END:VEVENT
END:VCALENDAR
