BEGIN:VCALENDAR
VERSION:2.0
PRODID:-//Sabre//Sabre VObject 4.5.8//EN
CALSCALE:GREGORIAN
NAME:WCAG: New Needs\, New Work to Enhance WAI Guidelines (panel)
X-WR-CALNAME:WCAG: New Needs\, New Work to Enhance WAI Guidelines (panel)
BEGIN:VTIMEZONE
TZID:UTC
X-MICROSOFT-CDO-TZID:0
BEGIN:STANDARD
DTSTART:20150331T000000
TZOFFSETFROM:+0000
TZOFFSETTO:+0000
TZNAME:UTC
END:STANDARD
END:VTIMEZONE
BEGIN:VEVENT
UID:24aeddcb-7482-4f1d-91fb-0cbb0a40dc3d
DTSTAMP:20221209T131429Z
SUMMARY:WCAG: New Needs\, New Work to Enhance WAI Guidelines (panel)
DTSTART:20160325T000000Z
DTEND:20160325T000000Z
DESCRIPTION:https://www.w3.org/events/talks/2016/wcag-new-needs-new-work-to
 -enhance-wai-guidelines-panel/\n\nWCAG: New Needs\, New Work to Enhance WA
 I Guidelines (panel)
STATUS:CONFIRMED
CREATED:20160325T000000Z
LAST-MODIFIED:20221209T131429Z
END:VEVENT
END:VCALENDAR
