BEGIN:VCALENDAR
VERSION:2.0
PRODID:-//Sabre//Sabre VObject 4.5.8//EN
CALSCALE:GREGORIAN
NAME:Web Cryptography Workshop (tutorial)
X-WR-CALNAME:Web Cryptography Workshop (tutorial)
BEGIN:VTIMEZONE
TZID:UTC
X-MICROSOFT-CDO-TZID:0
BEGIN:STANDARD
DTSTART:20150314T000000
TZOFFSETFROM:+0000
TZOFFSETTO:+0000
TZNAME:UTC
END:STANDARD
END:VTIMEZONE
BEGIN:VEVENT
UID:1b4bcc8c-bc3a-4af5-8225-66cbc605f79f
DTSTAMP:20221209T131101Z
SUMMARY:Web Cryptography Workshop (tutorial)
DTSTART:20160308T000000Z
DTEND:20160308T000000Z
DESCRIPTION:https://www.w3.org/events/talks/2016/web-cryptography-workshop-
 tutorial/\n\nWeb Cryptography Workshop (tutorial)
STATUS:CONFIRMED
CREATED:20160308T000000Z
LAST-MODIFIED:20221209T131101Z
END:VEVENT
END:VCALENDAR
