BEGIN:VCALENDAR
VERSION:2.0
PRODID:-//Sabre//Sabre VObject 4.5.8//EN
CALSCALE:GREGORIAN
NAME:Why standards? & current CSS topics
X-WR-CALNAME:Why standards? & current CSS topics
BEGIN:VTIMEZONE
TZID:UTC
X-MICROSOFT-CDO-TZID:0
BEGIN:STANDARD
DTSTART:20150209T000000
TZOFFSETFROM:+0000
TZOFFSETTO:+0000
TZNAME:UTC
END:STANDARD
END:VTIMEZONE
BEGIN:VEVENT
UID:a46ff882-b662-4c06-b33d-b62beae1304d
DTSTAMP:20221209T130744Z
SUMMARY:Why standards? & current CSS topics
DTSTART:20160204T000000Z
DTEND:20160204T000000Z
DESCRIPTION:https://www.w3.org/events/talks/2016/why-standards-current-css-
 topics/\n\nWhy standards? & current CSS topics
STATUS:CONFIRMED
CREATED:20160204T000000Z
LAST-MODIFIED:20221209T130744Z
END:VEVENT
END:VCALENDAR
