BEGIN:VCALENDAR
VERSION:2.0
PRODID:-//Sabre//Sabre VObject 4.5.8//EN
CALSCALE:GREGORIAN
NAME:A walk-through of CSS Grid
X-WR-CALNAME:A walk-through of CSS Grid
BEGIN:VTIMEZONE
TZID:Europe/Amsterdam
BEGIN:STANDARD
DTSTART:20161030T010000
TZOFFSETFROM:+0200
TZOFFSETTO:+0100
TZNAME:CET
END:STANDARD
BEGIN:STANDARD
DTSTART:20171029T010000
TZOFFSETFROM:+0200
TZOFFSETTO:+0100
TZNAME:CET
END:STANDARD
BEGIN:DAYLIGHT
DTSTART:20170326T010000
TZOFFSETFROM:+0100
TZOFFSETTO:+0200
TZNAME:CEST
END:DAYLIGHT
END:VTIMEZONE
BEGIN:VEVENT
UID:4f9d788b-fa73-4280-9946-b03364e00ef8
DTSTAMP:20221010T153830Z
SUMMARY:A walk-through of CSS Grid
DTSTART;TZID=Europe/Amsterdam:20170615T140000
DTEND;TZID=Europe/Amsterdam:20170615T153000
DESCRIPTION:https://www.w3.org/events/talks/2017/a-walk-through-of-css-grid
 /\n\n 
STATUS:CONFIRMED
CREATED:20170606T152900Z
LAST-MODIFIED:20221010T153830Z
END:VEVENT
END:VCALENDAR
