BEGIN:VCALENDAR
VERSION:2.0
PRODID:-//Sabre//Sabre VObject 4.5.8//EN
CALSCALE:GREGORIAN
NAME:ACT Now: Accessibility Conformance Testing for WCAG
X-WR-CALNAME:ACT Now: Accessibility Conformance Testing for WCAG
BEGIN:VTIMEZONE
TZID:America/Los_Angeles
X-MICROSOFT-CDO-TZID:13
BEGIN:DAYLIGHT
DTSTART:20160313T100000
TZOFFSETFROM:-0800
TZOFFSETTO:-0700
TZNAME:PDT
END:DAYLIGHT
BEGIN:DAYLIGHT
DTSTART:20170312T100000
TZOFFSETFROM:-0800
TZOFFSETTO:-0700
TZNAME:PDT
END:DAYLIGHT
BEGIN:STANDARD
DTSTART:20161106T090000
TZOFFSETFROM:-0700
TZOFFSETTO:-0800
TZNAME:PST
END:STANDARD
END:VTIMEZONE
BEGIN:VEVENT
UID:26e130b9-8ea4-42a9-ab22-d167702d30a8
DTSTAMP:20221010T145517Z
SUMMARY:ACT Now: Accessibility Conformance Testing for WCAG
DTSTART;TZID=America/Los_Angeles:20170302T000000
DTEND;TZID=America/Los_Angeles:20170302T235959
DESCRIPTION:https://www.w3.org/events/talks/2017/act-now-accessibility-conf
 ormance-testing-for-wcag/\n\nACT Now: Accessibility Conformance Testing fo
 r WCAG presented by Shadi Abou-Zahra\, Wilco Fiers\, and Mary Jo Mueller 2
 017-03-03 in San Diego
STATUS:CONFIRMED
CREATED:20170306T025400Z
LAST-MODIFIED:20221010T145517Z
END:VEVENT
END:VCALENDAR
